BEGIN:VCALENDAR
VERSION:2.0
PRODID:-//A.M.M. - ECPv6.13.2.1//NONSGML v1.0//EN
CALSCALE:GREGORIAN
METHOD:PUBLISH
X-WR-CALNAME:A.M.M.
X-ORIGINAL-URL:https://amm.mi.it
X-WR-CALDESC:Eventi per A.M.M.
REFRESH-INTERVAL;VALUE=DURATION:PT1H
X-Robots-Tag:noindex
X-PUBLISHED-TTL:PT1H
BEGIN:VTIMEZONE
TZID:Europe/Helsinki
BEGIN:DAYLIGHT
TZOFFSETFROM:+0200
TZOFFSETTO:+0300
TZNAME:EEST
DTSTART:20190331T010000
END:DAYLIGHT
BEGIN:STANDARD
TZOFFSETFROM:+0300
TZOFFSETTO:+0200
TZNAME:EET
DTSTART:20191027T010000
END:STANDARD
END:VTIMEZONE
BEGIN:VTIMEZONE
TZID:Europe/Paris
BEGIN:DAYLIGHT
TZOFFSETFROM:+0100
TZOFFSETTO:+0200
TZNAME:CEST
DTSTART:20170326T010000
END:DAYLIGHT
BEGIN:STANDARD
TZOFFSETFROM:+0200
TZOFFSETTO:+0100
TZNAME:CET
DTSTART:20171029T010000
END:STANDARD
BEGIN:DAYLIGHT
TZOFFSETFROM:+0100
TZOFFSETTO:+0200
TZNAME:CEST
DTSTART:20180325T010000
END:DAYLIGHT
BEGIN:STANDARD
TZOFFSETFROM:+0200
TZOFFSETTO:+0100
TZNAME:CET
DTSTART:20181028T010000
END:STANDARD
BEGIN:DAYLIGHT
TZOFFSETFROM:+0100
TZOFFSETTO:+0200
TZNAME:CEST
DTSTART:20190331T010000
END:DAYLIGHT
BEGIN:STANDARD
TZOFFSETFROM:+0200
TZOFFSETTO:+0100
TZNAME:CET
DTSTART:20191027T010000
END:STANDARD
END:VTIMEZONE
BEGIN:VEVENT
DTSTART;TZID=Europe/Helsinki:20191113T203000
DTEND;TZID=Europe/Helsinki:20191113T230000
DTSTAMP:20260423T193624
CREATED:20191017T083215Z
LAST-MODIFIED:20191017T083215Z
UID:2122-1573677000-1573686000@amm.mi.it
SUMMARY:L’IPOTIROIDISMO NELLO STUDIO DEL MMG. Quando rallentare significa aumentare! Riconoscere\, definire e trattare le varie forme di ipotiroidismo.
DESCRIPTION:0
URL:https://amm.mi.it/evento/lipotiroidismo-nello-studio-del-mmg-quando-rallentare-significa-aumentare-riconoscere-definire-e-trattare-le-varie-forme-di-ipotiroidismo/
ORGANIZER;CN="A.M.M.":MAILTO:segreteria@amm.mi.it
END:VEVENT
BEGIN:VEVENT
DTSTART;TZID=Europe/Paris:20190605T210000
DTEND;TZID=Europe/Paris:20190605T230000
DTSTAMP:20260423T193624
CREATED:20190502T132926Z
LAST-MODIFIED:20190502T133324Z
UID:2029-1559768400-1559775600@amm.mi.it
SUMMARY:ECOGRAFIA TRIDIMENSIONALE (3D)\, POWER DOPPLER E DOPPLER PULSATO NELLO STUDIO DEGLI ORGANI PELVICI. NUOVE FRONTIERE DELLA DIAGNOSTICA
DESCRIPTION:SERATA AGGIORNAMENTO \n0
URL:https://amm.mi.it/evento/ecografia-tridimensionale-3d-power-doppler-e-doppler-pulsato-nello-studio-degli-organi-pelvici-nuove-frontiere-della-diagnostica/
LOCATION:A.M.M.\, Viale Beatrice D’Este\, 10 \, Milano\, milano\, 20122\, Italia
END:VEVENT
BEGIN:VEVENT
DTSTART;TZID=Europe/Paris:20190525T100000
DTEND;TZID=Europe/Paris:20190525T100000
DTSTAMP:20260423T193624
CREATED:20190502T133053Z
LAST-MODIFIED:20190502T133053Z
UID:2031-1558778400-1558778400@amm.mi.it
SUMMARY:VISITA AL CIMITERO MONUMENTALE
DESCRIPTION:0
URL:https://amm.mi.it/evento/visita-al-cimitero-monumentale/
END:VEVENT
BEGIN:VEVENT
DTSTART;TZID=Europe/Paris:20190522T210000
DTEND;TZID=Europe/Paris:20190522T230000
DTSTAMP:20260423T193624
CREATED:20190502T132831Z
LAST-MODIFIED:20190502T133255Z
UID:2027-1558558800-1558566000@amm.mi.it
SUMMARY:CERTIFICAZIONI MEDICHE:  CORRETTE MODALITA’ E LORO IMPLICAZIONI LEGALI
DESCRIPTION:SERATA AGGIORNAMENTO \n0
URL:https://amm.mi.it/evento/certificazioni-mediche-corrette-modalita-e-loro-implicazioni-legali/
LOCATION:A.M.M.\, Viale Beatrice D’Este\, 10 \, Milano\, milano\, 20122\, Italia
END:VEVENT
BEGIN:VEVENT
DTSTART;TZID=Europe/Paris:20190507T160000
DTEND;TZID=Europe/Paris:20190507T180000
DTSTAMP:20260423T193624
CREATED:20190502T133209Z
LAST-MODIFIED:20190502T133209Z
UID:2033-1557244800-1557252000@amm.mi.it
SUMMARY:MOSTRA PALAZZO REALE - ANTONELLO DA MESSINA DENTRO LA PITTURA
DESCRIPTION:0
URL:https://amm.mi.it/evento/mostra-palazzo-reale-antonello-da-messina-dentro-la-pittura/
END:VEVENT
BEGIN:VEVENT
DTSTART;TZID=Europe/Paris:20190417T090000
DTEND;TZID=Europe/Paris:20190417T230000
DTSTAMP:20260423T193624
CREATED:20190312T092124Z
LAST-MODIFIED:20190312T092124Z
UID:2009-1555491600-1555542000@amm.mi.it
SUMMARY:LE PROBLEMATICHE UROLOGICHE DI MAGGIOR IMPATTO NELL’AMBULATORIO DEL MEDICO DI FAMIGLIA - Patologie renali e vescicali
DESCRIPTION:EVENTO ECM \n0
URL:https://amm.mi.it/evento/le-problematiche-urologiche-di-maggior-impatto-nellambulatorio-del-medico-di-famiglia-patologie-renali-e-vescicali/
END:VEVENT
BEGIN:VEVENT
DTSTART;TZID=Europe/Paris:20190410T090000
DTEND;TZID=Europe/Paris:20190410T230000
DTSTAMP:20260423T193624
CREATED:20190312T091957Z
LAST-MODIFIED:20190312T091957Z
UID:2007-1554886800-1554937200@amm.mi.it
SUMMARY:LE PROBLEMATICHE UROLOGICHE DI MAGGIOR IMPATTO NELL’AMBULATORIO DEL MEDICO DI FAMIGLIA -  Patologie prostatiche
DESCRIPTION:EVENTO ECM \n0
URL:https://amm.mi.it/evento/le-problematiche-urologiche-di-maggior-impatto-nellambulatorio-del-medico-di-famiglia-patologie-prostatiche/
END:VEVENT
BEGIN:VEVENT
DTSTART;TZID=Europe/Paris:20190313T163000
DTEND;TZID=Europe/Paris:20190313T180000
DTSTAMP:20260423T193624
CREATED:20190218T081409Z
LAST-MODIFIED:20190218T081409Z
UID:1976-1552494600-1552500000@amm.mi.it
SUMMARY:VISITA MUSEO POLDI POZZOLI
DESCRIPTION:0
URL:https://amm.mi.it/evento/visita-museo-poldi-pozzoli/
END:VEVENT
BEGIN:VEVENT
DTSTART;TZID=Europe/Paris:20190227T210000
DTEND;TZID=Europe/Paris:20190227T230000
DTSTAMP:20260423T193624
CREATED:20190218T080934Z
LAST-MODIFIED:20190218T080934Z
UID:1972-1551301200-1551308400@amm.mi.it
SUMMARY:GESTIONE DEL PAZIENTE CON PATOLOGIA CARDIOVASCOLARE: INTERAZIONE TRA MEDICI DI MEDICINA GENERALE E SPECIALISTI CARDIOLOGO E CHIRURGO VASCOLARE
DESCRIPTION:0
URL:https://amm.mi.it/evento/gestione-del-paziente-con-patologia-cardiovascolare-interazione-tra-medici-di-medicina-generale-e-specialisti-cardiologo-e-chirurgo-vascolare-2/
LOCATION:A.M.M.\, Viale Beatrice D’Este\, 10 \, Milano\, milano\, 20122\, Italia
ORGANIZER;CN="ASSOCIAZIONE MEDICI MILANESI":MAILTO:segreteria@amm.mi.it
END:VEVENT
BEGIN:VEVENT
DTSTART;TZID=Europe/Paris:20190227T163000
DTEND;TZID=Europe/Paris:20190227T180000
DTSTAMP:20260423T193624
CREATED:20190218T081249Z
LAST-MODIFIED:20190218T081249Z
UID:1974-1551285000-1551290400@amm.mi.it
SUMMARY:VISITA MUSEO DEL '900
DESCRIPTION:0
URL:https://amm.mi.it/evento/visita-museo-del-900/
END:VEVENT
BEGIN:VEVENT
DTSTART;TZID=Europe/Paris:20190220T210000
DTEND;TZID=Europe/Paris:20190220T230000
DTSTAMP:20260423T193624
CREATED:20190218T080837Z
LAST-MODIFIED:20190218T080837Z
UID:1970-1550696400-1550703600@amm.mi.it
SUMMARY:GESTIONE DEL PAZIENTE CON PATOLOGIA CARDIOVASCOLARE: INTERAZIONE TRA MEDICI DI MEDICINA GENERALE E SPECIALISTI CARDIOLOGO E CHIRURGO VASCOLARE
DESCRIPTION:0
URL:https://amm.mi.it/evento/gestione-del-paziente-con-patologia-cardiovascolare-interazione-tra-medici-di-medicina-generale-e-specialisti-cardiologo-e-chirurgo-vascolare/
LOCATION:A.M.M.\, Viale Beatrice D’Este\, 10 \, Milano\, milano\, 20122\, Italia
ORGANIZER;CN="ASSOCIAZIONE MEDICI MILANESI":MAILTO:segreteria@amm.mi.it
END:VEVENT
BEGIN:VEVENT
DTSTART;VALUE=DATE:20181121
DTEND;VALUE=DATE:20181122
DTSTAMP:20260423T193624
CREATED:20180213T075824Z
LAST-MODIFIED:20180213T075824Z
UID:1878-1542758400-1542844799@amm.mi.it
SUMMARY:AGGIORNAMENTO MEDICI 2017 – II° CICLO – a cura del Prof. G. Caprio e D.ssa L. Bovone
DESCRIPTION:“Patologia proctologica: i nuovi approcci” \n0
URL:https://amm.mi.it/evento/aggiornamento-medici-2017-ii-ciclo-a-cura-del-prof-g-caprio-e-d-ssa-l-bovone-9/
END:VEVENT
BEGIN:VEVENT
DTSTART;VALUE=DATE:20181114
DTEND;VALUE=DATE:20181115
DTSTAMP:20260423T193624
CREATED:20180213T075546Z
LAST-MODIFIED:20180213T075546Z
UID:1876-1542153600-1542239999@amm.mi.it
SUMMARY:AGGIORNAMENTO MEDICI 2017 – II° CICLO – a cura del Prof. G. Caprio e D.ssa L. Bovone
DESCRIPTION:“Argomenti di medicina legale per Medici di Medicina Generale” \n0
URL:https://amm.mi.it/evento/aggiornamento-medici-2017-ii-ciclo-a-cura-del-prof-g-caprio-e-d-ssa-l-bovone-8/
END:VEVENT
BEGIN:VEVENT
DTSTART;VALUE=DATE:20181024
DTEND;VALUE=DATE:20181025
DTSTAMP:20260423T193624
CREATED:20180213T074458Z
LAST-MODIFIED:20180213T074458Z
UID:1862-1540339200-1540425599@amm.mi.it
SUMMARY:AGGIORNAMENTO MEDICI 2017 – I° CICLO – a cura del Prof. G. Caprio e D.ssa L. Bovone
DESCRIPTION:“Patologia proctologica: i nuovi approcci” \n0
URL:https://amm.mi.it/evento/aggiornamento-medici-2017-i-ciclo-a-cura-del-prof-g-caprio-e-d-ssa-l-bovone-8/
END:VEVENT
BEGIN:VEVENT
DTSTART;VALUE=DATE:20181017
DTEND;VALUE=DATE:20181018
DTSTAMP:20260423T193624
CREATED:20180213T074424Z
LAST-MODIFIED:20180213T074424Z
UID:1860-1539734400-1539820799@amm.mi.it
SUMMARY:AGGIORNAMENTO MEDICI 2017 – I° CICLO – a cura del Prof. G. Caprio e D.ssa L. Bovone
DESCRIPTION:“Argomenti di medicina legale per Medici di Medicina Generale” \n0
URL:https://amm.mi.it/evento/aggiornamento-medici-2017-i-ciclo-a-cura-del-prof-g-caprio-e-d-ssa-l-bovone-7/
END:VEVENT
BEGIN:VEVENT
DTSTART;VALUE=DATE:20180912
DTEND;VALUE=DATE:20180913
DTSTAMP:20260423T193624
CREATED:20180213T075505Z
LAST-MODIFIED:20180213T075505Z
UID:1874-1536710400-1536796799@amm.mi.it
SUMMARY:AGGIORNAMENTO MEDICI 2017 – II° CICLO – a cura del Prof. G. Caprio e D.ssa L. Bovone
DESCRIPTION:“Dry eye\, patologia del film lacrimale: diagnosi e terapia” \n0
URL:https://amm.mi.it/evento/aggiornamento-medici-2017-ii-ciclo-a-cura-del-prof-g-caprio-e-d-ssa-l-bovone-7/
END:VEVENT
BEGIN:VEVENT
DTSTART;VALUE=DATE:20180606
DTEND;VALUE=DATE:20180607
DTSTAMP:20260423T193624
CREATED:20180213T074318Z
LAST-MODIFIED:20180213T074318Z
UID:1858-1528243200-1528329599@amm.mi.it
SUMMARY:AGGIORNAMENTO MEDICI 2017 – I° CICLO – a cura del Prof. G. Caprio e D.ssa L. Bovone
DESCRIPTION:“Dry eye\, patologia del film lacrimale: diagnosi e terapia” \n0
URL:https://amm.mi.it/evento/aggiornamento-medici-2017-i-ciclo-a-cura-del-prof-g-caprio-e-d-ssa-l-bovone-6/
END:VEVENT
BEGIN:VEVENT
DTSTART;VALUE=DATE:20180530
DTEND;VALUE=DATE:20180531
DTSTAMP:20260423T193624
CREATED:20180213T075304Z
LAST-MODIFIED:20180213T075304Z
UID:1872-1527638400-1527724799@amm.mi.it
SUMMARY:AGGIORNAMENTO MEDICI 2017 – II° CICLO – a cura del Prof. G. Caprio e D.ssa L. Bovone
DESCRIPTION:“Valore nutrizionale dei salumi italiani DOP e IGP: dalla composizione alle linee guida per un’alimentazione equilibrata” \n0
URL:https://amm.mi.it/evento/aggiornamento-medici-2017-ii-ciclo-a-cura-del-prof-g-caprio-e-d-ssa-l-bovone-6/
END:VEVENT
BEGIN:VEVENT
DTSTART;VALUE=DATE:20180516
DTEND;VALUE=DATE:20180517
DTSTAMP:20260423T193624
CREATED:20180213T075216Z
LAST-MODIFIED:20180213T075216Z
UID:1870-1526428800-1526515199@amm.mi.it
SUMMARY:AGGIORNAMENTO MEDICI 2017 – II° CICLO – a cura del Prof. G. Caprio e D.ssa L. Bovone
DESCRIPTION:“I problemi dermatologici più comuni che osserviamo in ambulatorio” \n0
URL:https://amm.mi.it/evento/aggiornamento-medici-2017-ii-ciclo-a-cura-del-prof-g-caprio-e-d-ssa-l-bovone-5/
END:VEVENT
BEGIN:VEVENT
DTSTART;VALUE=DATE:20180509
DTEND;VALUE=DATE:20180510
DTSTAMP:20260423T193624
CREATED:20180213T075136Z
LAST-MODIFIED:20180213T075136Z
UID:1868-1525824000-1525910399@amm.mi.it
SUMMARY:AGGIORNAMENTO MEDICI 2017 – II° CICLO – a cura del Prof. G. Caprio e D.ssa L. Bovone
DESCRIPTION:“Ansia – Depressione – Stress: Quanta Malattia? \n0
URL:https://amm.mi.it/evento/aggiornamento-medici-2017-ii-ciclo-a-cura-del-prof-g-caprio-e-d-ssa-l-bovone-4/
END:VEVENT
BEGIN:VEVENT
DTSTART;VALUE=DATE:20180411
DTEND;VALUE=DATE:20180412
DTSTAMP:20260423T193624
CREATED:20180213T074748Z
LAST-MODIFIED:20180213T074748Z
UID:1866-1523404800-1523491199@amm.mi.it
SUMMARY:AGGIORNAMENTO MEDICI 2017 – II° CICLO – a cura del Prof. G. Caprio e D.ssa L. Bovone
DESCRIPTION:“Diagnosi differenziale delle patologie vertiginose” \n0
URL:https://amm.mi.it/evento/aggiornamento-medici-2017-ii-ciclo-a-cura-del-prof-g-caprio-e-d-ssa-l-bovone-3/
END:VEVENT
BEGIN:VEVENT
DTSTART;VALUE=DATE:20180404
DTEND;VALUE=DATE:20180405
DTSTAMP:20260423T193624
CREATED:20180213T074214Z
LAST-MODIFIED:20180213T074214Z
UID:1856-1522800000-1522886399@amm.mi.it
SUMMARY:AGGIORNAMENTO MEDICI 2017 – I° CICLO – a cura del Prof. G. Caprio e D.ssa L. Bovone
DESCRIPTION:“I problemi dermatologici più comuni che osserviamo in ambulatorio” \n0
URL:https://amm.mi.it/evento/aggiornamento-medici-2017-i-ciclo-a-cura-del-prof-g-caprio-e-d-ssa-l-bovone-5/
END:VEVENT
BEGIN:VEVENT
DTSTART;VALUE=DATE:20180328
DTEND;VALUE=DATE:20180329
DTSTAMP:20260423T193624
CREATED:20180213T074710Z
LAST-MODIFIED:20180213T074710Z
UID:1864-1522195200-1522281599@amm.mi.it
SUMMARY:AGGIORNAMENTO MEDICI 2017 – II° CICLO – a cura del Prof. G. Caprio e D.ssa L. Bovone
DESCRIPTION:“Dolore acuto e cronico: approcci clinici condivisi e percorsi sinergici in rete” \n0
URL:https://amm.mi.it/evento/aggiornamento-medici-2017-ii-ciclo-a-cura-del-prof-g-caprio-e-d-ssa-l-bovone-2/
END:VEVENT
BEGIN:VEVENT
DTSTART;VALUE=DATE:20180321
DTEND;VALUE=DATE:20180322
DTSTAMP:20260423T193624
CREATED:20180213T074052Z
LAST-MODIFIED:20180213T074052Z
UID:1854-1521590400-1521676799@amm.mi.it
SUMMARY:AGGIORNAMENTO MEDICI 2017 – I° CICLO – a cura del Prof. G. Caprio e D.ssa L. Bovone
DESCRIPTION:“Valore nutrizionale dei salumi italiani DOP e IGP: dalla composizione alle linee guida per un’alimentazione equilibrata” \n0
URL:https://amm.mi.it/evento/aggiornamento-medici-2017-i-ciclo-a-cura-del-prof-g-caprio-e-d-ssa-l-bovone-4/
CATEGORIES:ECM 2014 Ciclo I
END:VEVENT
BEGIN:VEVENT
DTSTART;VALUE=DATE:20180314
DTEND;VALUE=DATE:20180315
DTSTAMP:20260423T193624
CREATED:20180213T073953Z
LAST-MODIFIED:20180213T073953Z
UID:1852-1520985600-1521071999@amm.mi.it
SUMMARY:AGGIORNAMENTO MEDICI 2017 – I° CICLO – a cura del Prof. G. Caprio e D.ssa L. Bovone
DESCRIPTION:“Diagnosi differenziale delle patologie vertiginose” \n0
URL:https://amm.mi.it/evento/aggiornamento-medici-2017-i-ciclo-a-cura-del-prof-g-caprio-e-d-ssa-l-bovone-3/
CATEGORIES:ECM 2014 Ciclo I
END:VEVENT
BEGIN:VEVENT
DTSTART;VALUE=DATE:20180307
DTEND;VALUE=DATE:20180308
DTSTAMP:20260423T193624
CREATED:20180213T073825Z
LAST-MODIFIED:20180213T073825Z
UID:1850-1520380800-1520467199@amm.mi.it
SUMMARY:AGGIORNAMENTO MEDICI 2017 – I° CICLO – a cura del Prof. G. Caprio e D.ssa L. Bovone
DESCRIPTION:“Dolore acuto e cronico: approcci clinici condivisi e percorsi sinergici in rete” \n0
URL:https://amm.mi.it/evento/aggiornamento-medici-2017-i-ciclo-a-cura-del-prof-g-caprio-e-d-ssa-l-bovone-2/
CATEGORIES:ECM 2014 Ciclo I
END:VEVENT
BEGIN:VEVENT
DTSTART;VALUE=DATE:20180228
DTEND;VALUE=DATE:20180301
DTSTAMP:20260423T193624
CREATED:20180213T073148Z
LAST-MODIFIED:20180213T073148Z
UID:1848-1519776000-1519862399@amm.mi.it
SUMMARY:SERATA AGGIORNAMENTO - ONDE D'URTO
DESCRIPTION:0
URL:https://amm.mi.it/evento/serata-aggiornamento-onde-durto/
LOCATION:A.M.M.\, Viale Beatrice D’Este\, 10 \, Milano\, milano\, 20122\, Italia
END:VEVENT
BEGIN:VEVENT
DTSTART;VALUE=DATE:20180221
DTEND;VALUE=DATE:20180222
DTSTAMP:20260423T193624
CREATED:20180213T072655Z
LAST-MODIFIED:20180213T072655Z
UID:1846-1519171200-1519257599@amm.mi.it
SUMMARY:AGGIORNAMENTO MEDICI 2017 – I° CICLO – a cura del Prof. G. Caprio e D.ssa L. Bovone
DESCRIPTION:“Ansia – Depressione – Stress: Quanta malattia?” \n0
URL:https://amm.mi.it/evento/aggiornamento-medici-2017-i-ciclo-a-cura-del-prof-g-caprio-e-d-ssa-l-bovone/
LOCATION:A.M.M.\, Viale Beatrice D’Este\, 10 \, Milano\, milano\, 20122\, Italia
CATEGORIES:ECM 2014 Ciclo I
END:VEVENT
BEGIN:VEVENT
DTSTART;VALUE=DATE:20180214
DTEND;VALUE=DATE:20180215
DTSTAMP:20260423T193624
CREATED:20180213T072318Z
LAST-MODIFIED:20180213T072318Z
UID:1843-1518566400-1518652799@amm.mi.it
SUMMARY:AGGIORNAMENTO MEDICI 2017 – II° CICLO – a cura del Prof. G. Caprio e D.ssa L. Bovone
DESCRIPTION:“Demenze degenerative: recenti aspetti patomolecolari\, diagnostici e terapeutici.”  \n0
URL:https://amm.mi.it/evento/aggiornamento-medici-2017-ii-ciclo-a-cura-del-prof-g-caprio-e-d-ssa-l-bovone/
LOCATION:A.M.M.\, Viale Beatrice D’Este\, 10 \, Milano\, milano\, 20122\, Italia
CATEGORIES:ECM 2014 Ciclo II
END:VEVENT
BEGIN:VEVENT
DTSTART;VALUE=DATE:20170516
DTEND;VALUE=DATE:20170517
DTSTAMP:20260423T193624
CREATED:20170428T142915Z
LAST-MODIFIED:20170428T143000Z
UID:1729-1494892800-1494979199@amm.mi.it
SUMMARY:SERATA DI AGGIORNAMENTO
DESCRIPTION:I VACCINI TRA PAURE E RAZIONALITA’ \na cura della Dottoressa Maria Grazia Manfredi  \n  \nSERATA DI AGGIORNAMENTO \n16 MAGGIO 2017 ORE 19.30 \n  \nSala Convegni AMM – SNAMI \nV.le Beatrice d’Este\, 10 – Milano \n  \n19.30 – 20.00:       Registrazione dei partecipanti \n20.00 – 20.15:       Piano Nazionale Prevenzione Vaccinale 2017 – 2019: \nle novità per l’adolescente e l’adulto \nDott.ssa Maria Grazia Manfredi – MMG \n20.15 – 21.00:       Morbillo\, Meningite\, Pneumococco: tra paure e razionalità \nProf. Massimo Galli – Direttore scuola di specializzazione Malattie Infettive UNIMI. \n21.00 – 21.30:       L’offerta e la copertura vaccinale nel territorio dell’ATS Milano \nDott. Marino Faccini – Responsabile SS Profilassi Malattie Infettive e Vaccinazioni ATS Milano \n21.30 – 22.00:       Tavola rotonda con i relatori: “I vaccini sono sicuri?” \n22.00 – 22.15:       Discussione e compilazione del questionario \n  \nLa serata è accreditata per 4\,6 crediti ECM \nSaranno accettate le prime 70 iscrizioni \n0
URL:https://amm.mi.it/evento/serata-di-aggiornamento-2/
LOCATION:A.M.M.\, Viale Beatrice D’Este\, 10 \, Milano\, milano\, 20122\, Italia
ORGANIZER;CN="A.M.M.":MAILTO:segreteria@amm.mi.it
END:VEVENT
END:VCALENDAR