BEGIN:VCALENDAR
VERSION:2.0
PRODID:-//A.M.M. - ECPv6.13.2.1//NONSGML v1.0//EN
CALSCALE:GREGORIAN
METHOD:PUBLISH
X-WR-CALNAME:A.M.M.
X-ORIGINAL-URL:https://amm.mi.it
X-WR-CALDESC:Eventi per A.M.M.
REFRESH-INTERVAL;VALUE=DURATION:PT1H
X-Robots-Tag:noindex
X-PUBLISHED-TTL:PT1H
BEGIN:VTIMEZONE
TZID:Europe/Helsinki
BEGIN:DAYLIGHT
TZOFFSETFROM:+0200
TZOFFSETTO:+0300
TZNAME:EEST
DTSTART:20130331T010000
END:DAYLIGHT
BEGIN:STANDARD
TZOFFSETFROM:+0300
TZOFFSETTO:+0200
TZNAME:EET
DTSTART:20131027T010000
END:STANDARD
BEGIN:DAYLIGHT
TZOFFSETFROM:+0200
TZOFFSETTO:+0300
TZNAME:EEST
DTSTART:20140330T010000
END:DAYLIGHT
BEGIN:STANDARD
TZOFFSETFROM:+0300
TZOFFSETTO:+0200
TZNAME:EET
DTSTART:20141026T010000
END:STANDARD
END:VTIMEZONE
BEGIN:VEVENT
DTSTART;TZID=Europe/Helsinki:20140409T200000
DTEND;TZID=Europe/Helsinki:20140409T220000
DTSTAMP:20260424T010643
CREATED:20140204T071645Z
LAST-MODIFIED:20140213T160000Z
UID:1009-1397073600-1397080800@amm.mi.it
SUMMARY:CORSO ECM - Allergia\, evoluzione di una malattia in patologia sociale
DESCRIPTION:Ore 20.00 \nALLERGIA\, EVOLUZIONE DI UNA MALATTIA IN PATOLOGIA SOCIALE \nProf. Tassi C. \n0
URL:https://amm.mi.it/evento/corso-ecm-allergia-evoluzione-di-una-malattia-in-patologia-sociale/
LOCATION:Sede AMM\, Viale Beatrice D’Este\, 10 \, Milano\, (MI)\, 20122 \, Italia
CATEGORIES:ECM 2014 Ciclo I
END:VEVENT
BEGIN:VEVENT
DTSTART;TZID=Europe/Helsinki:20140319T200000
DTEND;TZID=Europe/Helsinki:20140319T220000
DTSTAMP:20260424T010643
CREATED:20140213T160726Z
LAST-MODIFIED:20140303T070356Z
UID:1022-1395259200-1395266400@amm.mi.it
SUMMARY:CORSO ECM - Nuovi percorsi diagnostici...
DESCRIPTION:Ore 20.00 \nNUOVI PERCORSI DIAGNOSTICI SULLA BASE DELLE NUOVE POSSIBILITA’ DIAGNOSTICHE \nDr. Cappelletti M. \n0
URL:https://amm.mi.it/evento/ii-incontro/
LOCATION:Sede AMM\, Viale Beatrice D’Este\, 10 \, Milano\, (MI)\, 20122 \, Italia
CATEGORIES:ECM 2014 Ciclo II
END:VEVENT
BEGIN:VEVENT
DTSTART;TZID=Europe/Helsinki:20140312T200000
DTEND;TZID=Europe/Helsinki:20140312T220000
DTSTAMP:20260424T010643
CREATED:20140204T071452Z
LAST-MODIFIED:20140213T160000Z
UID:1008-1394654400-1394661600@amm.mi.it
SUMMARY:CORSO ECM - Nuovi percorsi diagnostici........
DESCRIPTION:Ore 20.00  \nNUOVI PERCORSI DIAGNOSTICI SULLA BASE DELLE NUOVE POSSIBILITA’ DIAGNOSICHE. \nDr. Cappelletti M. \n0
URL:https://amm.mi.it/evento/corso-ecm-nuovi-percorsi-diagnostici/
LOCATION:Sede AMM\, Viale Beatrice D’Este\, 10 \, Milano\, (MI)\, 20122 \, Italia
CATEGORIES:ECM 2014 Ciclo I
END:VEVENT
BEGIN:VEVENT
DTSTART;TZID=Europe/Helsinki:20140226T200000
DTEND;TZID=Europe/Helsinki:20140226T220000
DTSTAMP:20260424T010643
CREATED:20140213T160528Z
LAST-MODIFIED:20140213T160528Z
UID:1021-1393444800-1393452000@amm.mi.it
SUMMARY:I Incontro
DESCRIPTION:0
URL:https://amm.mi.it/evento/i-incontro/
LOCATION:Sede AMM\, Viale Beatrice D’Este\, 10 \, Milano\, (MI)\, 20122 \, Italia
CATEGORIES:ECM 2014 Ciclo II
END:VEVENT
BEGIN:VEVENT
DTSTART;TZID=Europe/Helsinki:20140212T200000
DTEND;TZID=Europe/Helsinki:20140212T220000
DTSTAMP:20260424T010643
CREATED:20140204T071018Z
LAST-MODIFIED:20140213T160000Z
UID:1006-1392235200-1392242400@amm.mi.it
SUMMARY:CORSO ECM - diagnostica per immagini\, stato dell'arte
DESCRIPTION:ORE 20.00  \nDIAGNOSTICA PER IMMAGINI\, STATO DELL’ARTE \nDr. Cappelletti M. \nD.ssa Ciortan E. \n  \n0
URL:https://amm.mi.it/evento/corso-ecm-2/
LOCATION:Sede AMM\, Viale Beatrice D’Este\, 10 \, Milano\, (MI)\, 20122 \, Italia
CATEGORIES:ECM 2014 Ciclo I
END:VEVENT
BEGIN:VEVENT
DTSTART;TZID=Europe/Helsinki:20140116T210000
DTEND;TZID=Europe/Helsinki:20140116T230000
DTSTAMP:20260424T010643
CREATED:20131003T064747Z
LAST-MODIFIED:20131119T073224Z
UID:641-1389906000-1389913200@amm.mi.it
SUMMARY:SERATA DEDICATA ALLA CAPPELLA SISTINA
DESCRIPTION:Serata dedicata alla Cappella Sistina: Papi\, pittori e architetti che hanno contribuito a costruirne la storia. \nA cura del Professor Carlassara Giorgio \nLa Cappella Sistina\, dedicata a Maria Assunta in cielo\,  è uno dei più famosi tesori culturali e artistici della Città del Vaticano inserita all’interno del percorso dei Musei Vaticani. Fu costruita tra il1475 e il 1481\, all’epoca di Papa Sisto IV della Rovere\, da cui prese il nome. È conosciuta in tutto il globo sia per essere il luogo nel quale si tengono il conclave e altre cerimonie ufficiali del Papa (in passato anche alcune incoronazioni papali)\, sia per essere decorata con una delle opere d’arte più conosciute e celebrate della civiltà artistica occidentale\, gli affreschi di Michelangelo Buonarroti\, che ricoprono la volta ( 1508 – 1512) e la parete di fondo (del Giudizio Universale) sopra l’altare (1535 – 1541) \n0
URL:https://amm.mi.it/evento/mostra-pittura/
LOCATION:(MI)
ATTACH;FMTTYPE=image/jpeg:https://amm.mi.it/wp-content/uploads/2013/10/20130308_sistina-pavimento-rivestito.jpg
END:VEVENT
BEGIN:VEVENT
DTSTART;VALUE=DATE:20131214
DTEND;VALUE=DATE:20131215
DTSTAMP:20260424T010643
CREATED:20131210T062008Z
LAST-MODIFIED:20131210T062008Z
UID:926-1386979200-1387065599@amm.mi.it
SUMMARY:COSI' ERA MILANO: PORTA VERCELLINA
DESCRIPTION:Sabato 14 dicembre ore 15.30 \nc/o Oratorio di San Protasio al Lorenteggio \n  \nBRUNO PELLEGRINO presenta “Così era Milano: Porta Vercellina – alla scoperta del centro storico cittadino partendo dalla Porta Vercellina (P.Magenta) \nCon proiezione di fotografie della Milano di ieri e di oggi. \n  \nIngresso gratuito \nInvito 14 dicembre \n0
URL:https://amm.mi.it/evento/cosi-era-milano-porta-vercellina/
LOCATION:(MI)
END:VEVENT
BEGIN:VEVENT
DTSTART;TZID=Europe/Helsinki:20131126T170000
DTEND;TZID=Europe/Helsinki:20131126T180000
DTSTAMP:20260424T010643
CREATED:20131120T065631Z
LAST-MODIFIED:20131121T075352Z
UID:865-1385485200-1385488800@amm.mi.it
SUMMARY:INCONTRO-DEGUSTAZIONE OLIO - 26 novembre 2013 ore 17:00
DESCRIPTION:Martedì 26 novembre 2013 ore 17.00 presso la sede dello SNAMI in viale Beatrice D’Este\, 10 si terrà una degustazione del nuovo Olio proveniente dalla Sicilia.\nL’incontro sarà curato dal Dottor Nino Centonze che illustrerà le origini e la diffusione dell’ulivo.\nVi aspettiamo. \n0
URL:https://amm.mi.it/evento/attenzione-riservato-alle-signore-incontro-sullolio-26-novembre-2013-ore-1700/
LOCATION:Sede AMM\, Viale Beatrice D’Este\, 10 \, Milano\, (MI)\, 20122 \, Italia
ATTACH;FMTTYPE=image/jpeg:https://amm.mi.it/wp-content/uploads/2013/10/bottiglia-100ml.jpg
END:VEVENT
BEGIN:VEVENT
DTSTART;TZID=Europe/Helsinki:20131116T083000
DTEND;TZID=Europe/Helsinki:20131116T133000
DTSTAMP:20260424T010643
CREATED:20131114T132441Z
LAST-MODIFIED:20131114T132747Z
UID:827-1384590600-1384608600@amm.mi.it
SUMMARY:Convegno 16 novembre - La violenza in famiglia e lo stalking
DESCRIPTION:La violenza in famiglia e lo stalking\nConoscere\, capire\, intervenire \nTeoria e casi clinici \n16 novembre 2013 \nore 8.30-13.30 \nAula Magna – Istituto di Medicina Legale \nVia Mangiagalli 37 – Milano \nCoordinatore \nProf.ssa Isabella Merzagora Betsos \nSpecialista in Criminologia Clinica \nDottore di ricerca in Scienze Criminologiche e Psichiatrico Forensi \nProfessore straordinario di Criminologia – Dipartimento di Scienze Biomediche \nSabato 16.11.2013La violenza in famiglia e lo stalking Conoscere\, capire\, intervenire \n0
URL:https://amm.mi.it/evento/827/
LOCATION:Aula Magna – Istituto Medicina Legale\, Via Mangiagalli\, 37\, Milano\, Italia
END:VEVENT
BEGIN:VEVENT
DTSTART;TZID=Europe/Helsinki:20131114T193000
DTEND;TZID=Europe/Helsinki:20131114T193000
DTSTAMP:20260424T010643
CREATED:20131004T074329Z
LAST-MODIFIED:20131004T074329Z
UID:723-1384457400-1384457400@amm.mi.it
SUMMARY:FARMACO PRESCRIZIONE (Pfizer)
DESCRIPTION:0
URL:https://amm.mi.it/evento/farmaco-prescrizione-pfizer/
LOCATION:(MI)
END:VEVENT
BEGIN:VEVENT
DTSTART;TZID=Europe/Helsinki:20131107T193000
DTEND;TZID=Europe/Helsinki:20131107T203000
DTSTAMP:20260424T010643
CREATED:20131004T074242Z
LAST-MODIFIED:20131004T074242Z
UID:722-1383852600-1383856200@amm.mi.it
SUMMARY:FARMACO A BREVETTO SCADUTO (Pfizer)
DESCRIPTION:0
URL:https://amm.mi.it/evento/farmaco-a-brevetto-scaduto-pfizer/
LOCATION:(MI)
END:VEVENT
BEGIN:VEVENT
DTSTART;VALUE=DATE:20131007
DTEND;VALUE=DATE:20131008
DTSTAMP:20260424T010643
CREATED:20131003T064538Z
LAST-MODIFIED:20131004T071213Z
UID:640-1381104000-1381190399@amm.mi.it
SUMMARY:Da oggi in linea il nuovo blog dell'Associazione Milanese Medici
DESCRIPTION:E’ online il nuovo sito amm.mi.it! \nLeggi articolo \n  \n0
URL:https://amm.mi.it/evento/apertura-sito-amm-milano/
LOCATION:Sede AMM\, Viale Beatrice D’Este\, 10 \, Milano\, (MI)\, 20122 \, Italia
ATTACH;FMTTYPE=image/jpeg:https://amm.mi.it/wp-content/uploads/2013/10/Fotolia_18542196_S.jpg
END:VEVENT
BEGIN:VEVENT
DTSTART;VALUE=DATE:20131004
DTEND;VALUE=DATE:20131006
DTSTAMP:20260424T010643
CREATED:20131004T074136Z
LAST-MODIFIED:20131004T074136Z
UID:721-1380844800-1381017599@amm.mi.it
SUMMARY:SNAMI Congresso Nazionale Salerno
DESCRIPTION:0
URL:https://amm.mi.it/evento/snami-congresso-nazionale-salerno/
LOCATION:(MI)
END:VEVENT
END:VCALENDAR